BEGIN:VCALENDAR
VERSION:2.0
PRODID:-//Christian Brothers University - ECPv6.15.4//NONSGML v1.0//EN
CALSCALE:GREGORIAN
METHOD:PUBLISH
X-WR-CALNAME:Christian Brothers University
X-ORIGINAL-URL:https://www.cbu.edu
X-WR-CALDESC:Events for Christian Brothers University
REFRESH-INTERVAL;VALUE=DURATION:PT1H
X-Robots-Tag:noindex
X-PUBLISHED-TTL:PT1H
BEGIN:VTIMEZONE
TZID:America/Chicago
BEGIN:DAYLIGHT
TZOFFSETFROM:-0600
TZOFFSETTO:-0500
TZNAME:CDT
DTSTART:20260308T080000
END:DAYLIGHT
BEGIN:STANDARD
TZOFFSETFROM:-0500
TZOFFSETTO:-0600
TZNAME:CST
DTSTART:20261101T070000
END:STANDARD
END:VTIMEZONE
BEGIN:VEVENT
DTSTART;TZID=America/Chicago:20260424T160000
DTEND;TZID=America/Chicago:20260424T163000
DTSTAMP:20260424T013500
CREATED:20260415T194431Z
LAST-MODIFIED:20260415T194552Z
UID:10004149-1777046400-1777048200@www.cbu.edu
SUMMARY:Distinguished Lasallian Educator Award Ceremony
DESCRIPTION:Join us as we celebrate this year’s Distinguished Lasallian Educator honorees. The Ceremony takes place at the LLC\, and a light reception will follow.
URL:https://www.cbu.edu/event/distinguished-lasallian-educator-awards-ceremony/
LOCATION:Living Learning Center (LLC)
CATEGORIES:Campus Ministry
ATTACH;FMTTYPE=image/jpeg:https://res.cloudinary.com/christian-brothers-university/images/f_auto,q_auto/v1776281985/cbu-website-assets/Academic-Internship-24/Academic-Internship-24.jpg?_i=AA
END:VEVENT
END:VCALENDAR