BEGIN:VCALENDAR
VERSION:2.0
PRODID:-//Christian Brothers University - ECPv6.15.4//NONSGML v1.0//EN
CALSCALE:GREGORIAN
METHOD:PUBLISH
X-WR-CALNAME:Christian Brothers University
X-ORIGINAL-URL:https://www.cbu.edu
X-WR-CALDESC:Events for Christian Brothers University
REFRESH-INTERVAL;VALUE=DURATION:PT1H
X-Robots-Tag:noindex
X-PUBLISHED-TTL:PT1H
BEGIN:VTIMEZONE
TZID:America/Chicago
BEGIN:DAYLIGHT
TZOFFSETFROM:-0600
TZOFFSETTO:-0500
TZNAME:CDT
DTSTART:20260308T080000
END:DAYLIGHT
BEGIN:STANDARD
TZOFFSETFROM:-0500
TZOFFSETTO:-0600
TZNAME:CST
DTSTART:20261101T070000
END:STANDARD
END:VTIMEZONE
BEGIN:VEVENT
DTSTART;TZID=America/Chicago:20260320T180000
DTEND;TZID=America/Chicago:20260320T200000
DTSTAMP:20260419T214232
CREATED:20260319T200836Z
LAST-MODIFIED:20260320T161034Z
UID:10004124-1774029600-1774036800@www.cbu.edu
SUMMARY:Spring Fest - Goat Yoga\, Bungee Trampoline & More
DESCRIPTION:Join Student Engagement for Spring Fest Activities:  Goat Yoga and Bungee Trampoline. Enjoy Eats & Beats: Free ice cream\, amazing food\, and a live DJ. Event has Moved to Nolan Field.
URL:https://www.cbu.edu/event/spring-fest-hot-air-balloon-rides-more/
LOCATION:Nolan Field\, 650 East Parkway South\, Memphis\, TN\, 38104\, United States
CATEGORIES:Student Life & Social Events
ATTACH;FMTTYPE=image/png:https://res.cloudinary.com/christian-brothers-university/images/f_auto,q_auto/v1773950721/cbu-website-assets/Copy-of-ChristianBrothersSprgFest_png/Copy-of-ChristianBrothersSprgFest_png.png?_i=AA
END:VEVENT
BEGIN:VEVENT
DTSTART;TZID=America/Chicago:20260320T113000
DTEND;TZID=America/Chicago:20260320T130000
DTSTAMP:20260419T214232
CREATED:20260311T144209Z
LAST-MODIFIED:20260311T144210Z
UID:10004120-1774006200-1774011600@www.cbu.edu
SUMMARY:CBU Academic Pledge Drive
DESCRIPTION:Pledge to finish the semester strong! Sign the CBU Academic Pledge and choose a prize! Learn about resources to help: Peer Tutoring\, Academic Coaching\, Study Techniques and Planning templates. The Office of Academic Support will be set up in the Alfonso Breezeway 3/18-3/20 (Wednesday-Friday) 11:30 am – 1:00 pm.
URL:https://www.cbu.edu/event/cbu-academic-pledge-drive/2026-03-20/
LOCATION:Alfonso Breezeway\, 650 East Parkway South\, Memphis\, TN\, 38104\, United States
CATEGORIES:Academic Support
ATTACH;FMTTYPE=image/jpeg:https://res.cloudinary.com/christian-brothers-university/images/f_auto,q_auto/v1773239392/cbu-website-assets/large-CBURefresh-pledge-ig/large-CBURefresh-pledge-ig.jpg?_i=AA
ORGANIZER;CN="Academic Support":MAILTO:academicsupport@cbu.edu
END:VEVENT
BEGIN:VEVENT
DTSTART;TZID=America/Chicago:20260320T110000
DTEND;TZID=America/Chicago:20260320T130000
DTSTAMP:20260419T214232
CREATED:20260127T160706Z
LAST-MODIFIED:20260218T151533Z
UID:10003828-1774004400-1774011600@www.cbu.edu
SUMMARY:Summer Job & Volunteer Day
DESCRIPTION:Meet employers who hire students for summer jobs\, summer internships and volunteer opportunities. Watch your Handshake account for updates.
URL:https://www.cbu.edu/event/summer-job-volunteer-day/
LOCATION:Thomas Center\, 650 East Parkway South\, Memphis\, TN\, 38104\, United States
CATEGORIES:Career Services
ATTACH;FMTTYPE=image/jpeg:https://res.cloudinary.com/christian-brothers-university/images/f_auto,q_auto/v1771363414/cbu-website-assets/Academic-Internship-5/Academic-Internship-5.jpg?_i=AA
END:VEVENT
BEGIN:VEVENT
DTSTART;TZID=America/Chicago:20260319T200000
DTEND;TZID=America/Chicago:20260319T210000
DTSTAMP:20260419T214232
CREATED:20260115T185235Z
LAST-MODIFIED:20260115T185236Z
UID:10003759-1773950400-1773954000@www.cbu.edu
SUMMARY:S'More Faith
DESCRIPTION:Come for the sweets\, stay for the fellowship. Join Campus Ministry outside of the Living Learning Center at the fire pit at 8:00 pm.
URL:https://www.cbu.edu/event/smore-faith-4/
LOCATION:LLC\, 650 East Parkway South\, Memphis\, TN\, 38104\, United States
CATEGORIES:Campus Ministry
ATTACH;FMTTYPE=image/jpeg:https://res.cloudinary.com/christian-brothers-university/images/f_auto,q_auto/v1768503148/cbu-website-assets/SMore-Faith-Mar-19_50940eb546/SMore-Faith-Mar-19_50940eb546.jpg?_i=AA
END:VEVENT
BEGIN:VEVENT
DTSTART;TZID=America/Chicago:20260319T123000
DTEND;TZID=America/Chicago:20260319T133000
DTSTAMP:20260419T214232
CREATED:20260114T175348Z
LAST-MODIFIED:20260114T175349Z
UID:10002973-1773923400-1773927000@www.cbu.edu
SUMMARY:Career Networking: Kareers with Kids
DESCRIPTION:Networking with employers and industry professionals regarding career opportunities working with kids. Open to all interested students. \n* Event will be in Rosa Deal 111
URL:https://www.cbu.edu/event/career-networking-kareers-with-kids/
LOCATION:Rosa Deal School of Arts
CATEGORIES:Career Services
ATTACH;FMTTYPE=image/jpeg:https://res.cloudinary.com/christian-brothers-university/images/f_auto,q_auto/v1768413173/cbu-website-assets/Kareers-with-Kids/Kareers-with-Kids.jpg?_i=AA
END:VEVENT
BEGIN:VEVENT
DTSTART;TZID=America/Chicago:20260319T113000
DTEND;TZID=America/Chicago:20260319T130000
DTSTAMP:20260419T214232
CREATED:20260311T144209Z
LAST-MODIFIED:20260311T144210Z
UID:10004119-1773919800-1773925200@www.cbu.edu
SUMMARY:CBU Academic Pledge Drive
DESCRIPTION:Pledge to finish the semester strong! Sign the CBU Academic Pledge and choose a prize! Learn about resources to help: Peer Tutoring\, Academic Coaching\, Study Techniques and Planning templates. The Office of Academic Support will be set up in the Alfonso Breezeway 3/18-3/20 (Wednesday-Friday) 11:30 am – 1:00 pm.
URL:https://www.cbu.edu/event/cbu-academic-pledge-drive/2026-03-19/
LOCATION:Alfonso Breezeway\, 650 East Parkway South\, Memphis\, TN\, 38104\, United States
CATEGORIES:Academic Support
ATTACH;FMTTYPE=image/jpeg:https://res.cloudinary.com/christian-brothers-university/images/f_auto,q_auto/v1773239392/cbu-website-assets/large-CBURefresh-pledge-ig/large-CBURefresh-pledge-ig.jpg?_i=AA
ORGANIZER;CN="Academic Support":MAILTO:academicsupport@cbu.edu
END:VEVENT
END:VCALENDAR