BEGIN:VCALENDAR
VERSION:2.0
PRODID:-//Christian Brothers University - ECPv6.15.4//NONSGML v1.0//EN
CALSCALE:GREGORIAN
METHOD:PUBLISH
X-ORIGINAL-URL:https://www.cbu.edu
X-WR-CALDESC:Events for Christian Brothers University
REFRESH-INTERVAL;VALUE=DURATION:PT1H
X-Robots-Tag:noindex
X-PUBLISHED-TTL:PT1H
BEGIN:VTIMEZONE
TZID:America/Chicago
BEGIN:DAYLIGHT
TZOFFSETFROM:-0600
TZOFFSETTO:-0500
TZNAME:CDT
DTSTART:20260308T080000
END:DAYLIGHT
BEGIN:STANDARD
TZOFFSETFROM:-0500
TZOFFSETTO:-0600
TZNAME:CST
DTSTART:20261101T070000
END:STANDARD
END:VTIMEZONE
BEGIN:VEVENT
DTSTART;TZID=America/Chicago:20260409T130000
DTEND;TZID=America/Chicago:20260409T140000
DTSTAMP:20260425T121534
CREATED:20260127T161126Z
LAST-MODIFIED:20260218T152251Z
UID:10003833-1775739600-1775743200@www.cbu.edu
SUMMARY:First Impressions: Best Fork Forward
DESCRIPTION:Dining etiquette workshop
URL:https://www.cbu.edu/event/first-impressions-best-fork-forward/
LOCATION:Buckman 211 (Montesi)
CATEGORIES:Career Services
ATTACH;FMTTYPE=image/png:https://res.cloudinary.com/christian-brothers-university/images/f_auto,q_auto/v1771365833/cbu-website-assets/Academic-Internship-2_51332175b6/Academic-Internship-2_51332175b6.png?_i=AA
END:VEVENT
BEGIN:VEVENT
DTSTART;TZID=America/Chicago:20260408T180000
DTEND;TZID=America/Chicago:20260408T190000
DTSTAMP:20260425T121534
CREATED:20260112T210904Z
LAST-MODIFIED:20260112T210905Z
UID:10002984-1775671200-1775674800@www.cbu.edu
SUMMARY:SOAP (Scripture\, Observation\, Application\, Prayer) Bible Study
DESCRIPTION:Join Campus Ministry for SOAP Bible Study Wednesdays at 6:00 pm in Rosa Deal (204). We’ll share scripture and discuss the message of Christ in the Old and New Testament.
URL:https://www.cbu.edu/event/soap-scripture-observation-application-prayer-bible-study/2026-04-08/
LOCATION:Rosa Deal School of Arts
CATEGORIES:Campus Ministry
ATTACH;FMTTYPE=image/jpeg:https://res.cloudinary.com/christian-brothers-university/images/f_auto,q_auto/v1768252052/cbu-website-assets/SOAPWEB/SOAPWEB.jpg?_i=AA
END:VEVENT
BEGIN:VEVENT
DTSTART;TZID=America/Chicago:20260408T153000
DTEND;TZID=America/Chicago:20260408T160000
DTSTAMP:20260425T121534
CREATED:20260115T200447Z
LAST-MODIFIED:20260115T201628Z
UID:10003771-1775662200-1775664000@www.cbu.edu
SUMMARY:PB&J Wednesdays
DESCRIPTION:Join Campus Ministry nearly every Wednesday at 3:30 pm in Alfonso Dining Hall to make sandwiches for the St. Mary Soup Kitchen. This is a simple way to participate in feeding the hungry\, and it’s fun!
URL:https://www.cbu.edu/event/pbj-wednesdays/2026-04-08/
LOCATION:Alfonso Dining Hall
CATEGORIES:Campus Ministry
ATTACH;FMTTYPE=image/jpeg:https://res.cloudinary.com/christian-brothers-university/images/f_auto,q_auto/v1768510540/cbu-website-assets/960-x-PBJ/960-x-PBJ.jpg?_i=AA
END:VEVENT
BEGIN:VEVENT
DTSTART;TZID=America/Chicago:20260408T090000
DTEND;TZID=America/Chicago:20260408T160000
DTSTAMP:20260425T121534
CREATED:20260127T161041Z
LAST-MODIFIED:20260210T223332Z
UID:10003832-1775638800-1775664000@www.cbu.edu
SUMMARY:Academic Internship Information Day #2
DESCRIPTION:If you are interested in pursuing an academic internship for the Summer 2026 or Fall 2026 term\, stop by Career Services between 9:00 and 4:00 to pick up a site list\, application\, and instructions.
URL:https://www.cbu.edu/event/academic-internship-information-day-2-2/
LOCATION:Career Services Office\, 650 East Parkway South\, Memphis\, TN\, 38104\, United States
ATTACH;FMTTYPE=image/jpeg:https://res.cloudinary.com/christian-brothers-university/images/f_auto,q_auto/v1770762770/cbu-website-assets/Academic-Internship-2/Academic-Internship-2.jpg?_i=AA
END:VEVENT
BEGIN:VEVENT
DTSTART;TZID=America/Chicago:20260402T080000
DTEND;TZID=America/Chicago:20260404T170000
DTSTAMP:20260425T121534
CREATED:20260327T143646Z
LAST-MODIFIED:20260331T200559Z
UID:10004140-1775116800-1775322000@www.cbu.edu
SUMMARY:Holy Week CarPool Pilgrimage
DESCRIPTION:Campus Ministry is arranging a Holy Week Carpool to St. Louis Catholic Church for anyone on campus over Holy Week who wishes to attend services.\nApril 2\, Holy Thursday – 7:00 pm (Meet at Stritch Lounge at 6:15 pm)\nApril 3\, Good Friday – 7:00 pm (Meet at Stritch Lounge at 6:15 pm)\nApril 4\, Holy Saturday (Easter Vigil) – 8:00 pm (Meet at Stritch Lounge at 7:00 pm) \nPlease RSVP for the Holy Week Carpool Pilgrimage here.
URL:https://www.cbu.edu/event/holy-week-carpool-pilgrimage/
LOCATION:TN
CATEGORIES:Campus Ministry
ATTACH;FMTTYPE=image/jpeg:https://res.cloudinary.com/christian-brothers-university/images/f_auto,q_auto/v1774622174/cbu-website-assets/Holy-Week-Store-Schedule-Photocentric-Minimalist-Facebook-Post/Holy-Week-Store-Schedule-Photocentric-Minimalist-Facebook-Post.jpg?_i=AA
END:VEVENT
BEGIN:VEVENT
DTSTART;TZID=America/Chicago:20260401T153000
DTEND;TZID=America/Chicago:20260401T160000
DTSTAMP:20260425T121534
CREATED:20260115T200447Z
LAST-MODIFIED:20260115T201628Z
UID:10003770-1775057400-1775059200@www.cbu.edu
SUMMARY:PB&J Wednesdays
DESCRIPTION:Join Campus Ministry nearly every Wednesday at 3:30 pm in Alfonso Dining Hall to make sandwiches for the St. Mary Soup Kitchen. This is a simple way to participate in feeding the hungry\, and it’s fun!
URL:https://www.cbu.edu/event/pbj-wednesdays/2026-04-01/
LOCATION:Alfonso Dining Hall
CATEGORIES:Campus Ministry
ATTACH;FMTTYPE=image/jpeg:https://res.cloudinary.com/christian-brothers-university/images/f_auto,q_auto/v1768510540/cbu-website-assets/960-x-PBJ/960-x-PBJ.jpg?_i=AA
END:VEVENT
BEGIN:VEVENT
DTSTART;TZID=America/Chicago:20260401T083000
DTEND;TZID=America/Chicago:20260401T163000
DTSTAMP:20260425T121534
CREATED:20260327T183221Z
LAST-MODIFIED:20260327T185756Z
UID:10004144-1775032200-1775061000@www.cbu.edu
SUMMARY:CBU Academic Easter Hunt!
DESCRIPTION:Find easter eggs hidden around campus and visit CBU offices & centers for treats and academic tips: March 30-April 1st! Find the map of participating offices at bit.ly/CBUeaster26.
URL:https://www.cbu.edu/event/cbu-academic-easter-hunt-2/2026-04-01/
LOCATION:on-campus\, 650 East Parkway South\, Memphis\, TN\, 38104\, United States
CATEGORIES:Academic Support
ATTACH;FMTTYPE=image/png:https://res.cloudinary.com/christian-brothers-university/images/f_auto,q_auto/v1774384168/cbu-website-assets/Screenshot-2026-03-24-at-2.26.02-PM_52215c8b0a/Screenshot-2026-03-24-at-2.26.02-PM_52215c8b0a.png?_i=AA
ORGANIZER;CN="Academic Support":MAILTO:academicsupport@cbu.edu
END:VEVENT
BEGIN:VEVENT
DTSTART;TZID=America/Chicago:20260331T130000
DTEND;TZID=America/Chicago:20260331T140000
DTSTAMP:20260425T121534
CREATED:20260127T160943Z
LAST-MODIFIED:20260210T202728Z
UID:10003830-1774962000-1774965600@www.cbu.edu
SUMMARY:Money Matters: Financial Planning 101
DESCRIPTION:Learn the basics of financial planning! This event is targeted toward graduating seniors\, but all students are welcome to attend. \nSponsored and hosted by our friends at First South Financial.
URL:https://www.cbu.edu/event/money-matters-financial-planning-101/
LOCATION:Buckman 211 (Montesi)
CATEGORIES:Career Services
ATTACH;FMTTYPE=image/jpeg:https://res.cloudinary.com/christian-brothers-university/images/f_auto,q_auto/v1770755210/cbu-website-assets/Money-matters-financial-planning-101/Money-matters-financial-planning-101.jpg?_i=AA
END:VEVENT
BEGIN:VEVENT
DTSTART;TZID=America/Chicago:20260331T083000
DTEND;TZID=America/Chicago:20260331T163000
DTSTAMP:20260425T121534
CREATED:20260327T183221Z
LAST-MODIFIED:20260327T185756Z
UID:10004143-1774945800-1774974600@www.cbu.edu
SUMMARY:CBU Academic Easter Hunt!
DESCRIPTION:Find easter eggs hidden around campus and visit CBU offices & centers for treats and academic tips: March 30-April 1st! Find the map of participating offices at bit.ly/CBUeaster26.
URL:https://www.cbu.edu/event/cbu-academic-easter-hunt-2/2026-03-31/
LOCATION:on-campus\, 650 East Parkway South\, Memphis\, TN\, 38104\, United States
CATEGORIES:Academic Support
ATTACH;FMTTYPE=image/png:https://res.cloudinary.com/christian-brothers-university/images/f_auto,q_auto/v1774384168/cbu-website-assets/Screenshot-2026-03-24-at-2.26.02-PM_52215c8b0a/Screenshot-2026-03-24-at-2.26.02-PM_52215c8b0a.png?_i=AA
ORGANIZER;CN="Academic Support":MAILTO:academicsupport@cbu.edu
END:VEVENT
BEGIN:VEVENT
DTSTART;TZID=America/Chicago:20260330T083000
DTEND;TZID=America/Chicago:20260401T163000
DTSTAMP:20260425T121534
CREATED:20260327T183221Z
LAST-MODIFIED:20260327T185756Z
UID:10004137-1774859400-1775061000@www.cbu.edu
SUMMARY:CBU Academic Easter Hunt!
DESCRIPTION:Find easter eggs hidden around campus and visit CBU offices & centers for treats and academic tips: March 30-April 1st! Find the map of participating offices at bit.ly/CBUeaster26.
URL:https://www.cbu.edu/event/cbu-academic-easter-hunt-2/2026-03-30/
LOCATION:on-campus\, 650 East Parkway South\, Memphis\, TN\, 38104\, United States
CATEGORIES:Academic Support
ATTACH;FMTTYPE=image/png:https://res.cloudinary.com/christian-brothers-university/images/f_auto,q_auto/v1774384168/cbu-website-assets/Screenshot-2026-03-24-at-2.26.02-PM_52215c8b0a/Screenshot-2026-03-24-at-2.26.02-PM_52215c8b0a.png?_i=AA
ORGANIZER;CN="Academic Support":MAILTO:academicsupport@cbu.edu
END:VEVENT
BEGIN:VEVENT
DTSTART;TZID=America/Chicago:20260329T200000
DTEND;TZID=America/Chicago:20260329T213000
DTSTAMP:20260425T121534
CREATED:20260320T145908Z
LAST-MODIFIED:20260320T150941Z
UID:10004125-1774814400-1774819800@www.cbu.edu
SUMMARY:Palm Sunday
DESCRIPTION:Palm Sunday is on Sunday\, March 29. Campus Ministry will begin at 8:00 pm at the LLC Firepit (not in the chapel)\, and palms will be provided for everyone. After a brief opening\, everyone will process from the fire pit to Stritch Chapel and proceed with the Mass. This year\, we will hear the Passion Narrative from Matthew’s Gospel.
URL:https://www.cbu.edu/event/palm-sunday/
LOCATION:LLC Fire Pit\, 650 East Parkway South\, Memphis\, TN\, 38104\, United States
CATEGORIES:Campus Ministry
ATTACH;FMTTYPE=image/jpeg:https://res.cloudinary.com/christian-brothers-university/images/f_auto,q_auto/v1774019331/cbu-website-assets/Academic-Internship-2_519526091d/Academic-Internship-2_519526091d.jpg?_i=AA
END:VEVENT
BEGIN:VEVENT
DTSTART;TZID=America/Chicago:20260326T123000
DTEND;TZID=America/Chicago:20260326T140000
DTSTAMP:20260425T121534
CREATED:20260127T160823Z
LAST-MODIFIED:20260210T201034Z
UID:10003829-1774528200-1774533600@www.cbu.edu
SUMMARY:Reverse Career Fair for Visual Arts Majors
DESCRIPTION:Students will display their artwork and graphic design work for employer to review! Any visual arts majors interested in participating\, please contact Cathy Lantrip in Career Services ( clantrip@cbu.edu) before Spring Break (by March 5th). \n* Event will be held in Rosa Deal 111.
URL:https://www.cbu.edu/event/reverse-career-fair-for-visual-arts-majors/
LOCATION:Rosa Deal School of Arts
CATEGORIES:Career Services
ATTACH;FMTTYPE=image/jpeg:https://res.cloudinary.com/christian-brothers-university/images/f_auto,q_auto/v1770754181/cbu-website-assets/Reverse-Career/Reverse-Career.jpg?_i=AA
END:VEVENT
BEGIN:VEVENT
DTSTART;TZID=America/Chicago:20260326T120000
DTEND;TZID=America/Chicago:20260326T130000
DTSTAMP:20260425T121534
CREATED:20260220T215855Z
LAST-MODIFIED:20260220T215857Z
UID:10004108-1774526400-1774530000@www.cbu.edu
SUMMARY:First -Year Touchpoints - Sophomore Year
DESCRIPTION:First-year students are invited to FYE “Touch Points”\, relaxed snack breaks in Montesi Conference Center with Program Director Brittney Ngozi.
URL:https://www.cbu.edu/event/first-year-touchpoints-sophomore-year/
LOCATION:Buckman 211 (Montesi)
CATEGORIES:Academic Support
ATTACH;FMTTYPE=image/jpeg:https://res.cloudinary.com/christian-brothers-university/images/f_auto,q_auto/v1771624668/cbu-website-assets/Add-a-subheading-1-1/Add-a-subheading-1-1.jpg?_i=AA
ORGANIZER;CN="Academic Support":MAILTO:academicsupport@cbu.edu
END:VEVENT
BEGIN:VEVENT
DTSTART;TZID=America/Chicago:20260325T180000
DTEND;TZID=America/Chicago:20260325T190000
DTSTAMP:20260425T121534
CREATED:20260112T210904Z
LAST-MODIFIED:20260112T210905Z
UID:10002983-1774461600-1774465200@www.cbu.edu
SUMMARY:SOAP (Scripture\, Observation\, Application\, Prayer) Bible Study
DESCRIPTION:Join Campus Ministry for SOAP Bible Study Wednesdays at 6:00 pm in Rosa Deal (204). We’ll share scripture and discuss the message of Christ in the Old and New Testament.
URL:https://www.cbu.edu/event/soap-scripture-observation-application-prayer-bible-study/2026-03-25/
LOCATION:Rosa Deal School of Arts
CATEGORIES:Campus Ministry
ATTACH;FMTTYPE=image/jpeg:https://res.cloudinary.com/christian-brothers-university/images/f_auto,q_auto/v1768252052/cbu-website-assets/SOAPWEB/SOAPWEB.jpg?_i=AA
END:VEVENT
BEGIN:VEVENT
DTSTART;TZID=America/Chicago:20260325T153000
DTEND;TZID=America/Chicago:20260325T160000
DTSTAMP:20260425T121534
CREATED:20260115T200447Z
LAST-MODIFIED:20260115T201628Z
UID:10003769-1774452600-1774454400@www.cbu.edu
SUMMARY:PB&J Wednesdays
DESCRIPTION:Join Campus Ministry nearly every Wednesday at 3:30 pm in Alfonso Dining Hall to make sandwiches for the St. Mary Soup Kitchen. This is a simple way to participate in feeding the hungry\, and it’s fun!
URL:https://www.cbu.edu/event/pbj-wednesdays/2026-03-25/
LOCATION:Alfonso Dining Hall
CATEGORIES:Campus Ministry
ATTACH;FMTTYPE=image/jpeg:https://res.cloudinary.com/christian-brothers-university/images/f_auto,q_auto/v1768510540/cbu-website-assets/960-x-PBJ/960-x-PBJ.jpg?_i=AA
END:VEVENT
END:VCALENDAR